BEGIN:VCALENDAR
VERSION:2.0
PRODID:-//FC Emersacker - ECPv6.15.20//NONSGML v1.0//EN
CALSCALE:GREGORIAN
METHOD:PUBLISH
X-WR-CALNAME:FC Emersacker
X-ORIGINAL-URL:https://www.fcemersacker.de
X-WR-CALDESC:Veranstaltungen für FC Emersacker
REFRESH-INTERVAL;VALUE=DURATION:PT1H
X-Robots-Tag:noindex
X-PUBLISHED-TTL:PT1H
BEGIN:VTIMEZONE
TZID:Europe/Berlin
BEGIN:DAYLIGHT
TZOFFSETFROM:+0100
TZOFFSETTO:+0200
TZNAME:CEST
DTSTART:20220327T010000
END:DAYLIGHT
BEGIN:STANDARD
TZOFFSETFROM:+0200
TZOFFSETTO:+0100
TZNAME:CET
DTSTART:20221030T010000
END:STANDARD
BEGIN:DAYLIGHT
TZOFFSETFROM:+0100
TZOFFSETTO:+0200
TZNAME:CEST
DTSTART:20230326T010000
END:DAYLIGHT
BEGIN:STANDARD
TZOFFSETFROM:+0200
TZOFFSETTO:+0100
TZNAME:CET
DTSTART:20231029T010000
END:STANDARD
BEGIN:DAYLIGHT
TZOFFSETFROM:+0100
TZOFFSETTO:+0200
TZNAME:CEST
DTSTART:20240331T010000
END:DAYLIGHT
BEGIN:STANDARD
TZOFFSETFROM:+0200
TZOFFSETTO:+0100
TZNAME:CET
DTSTART:20241027T010000
END:STANDARD
END:VTIMEZONE
BEGIN:VEVENT
DTSTART;TZID=Europe/Berlin:20230820T131500
DTEND;TZID=Europe/Berlin:20230820T150000
DTSTAMP:20260423T142053
CREATED:20230720T210220Z
LAST-MODIFIED:20230801T211616Z
UID:4200-1692537300-1692543600@www.fcemersacker.de
SUMMARY:FC Emersacker 2 - FC Pfaffenhofen-Untere Zusam 2 (Herren-Reserve)
DESCRIPTION:
URL:https://www.fcemersacker.de/event/fc-emersacker-2-fc-pfaffenhofen-untere-zusam-2-herren-reserve/
LOCATION:FC Emersacker\, Sportplatzstraße 33\, 86494 Emersacker\, Deutschland
CATEGORIES:Fußball,Gesamtverein
ORGANIZER;CN="FC Emersacker":MAILTO:info@fcemersacker.de
END:VEVENT
BEGIN:VEVENT
DTSTART;TZID=Europe/Berlin:20230820T150000
DTEND;TZID=Europe/Berlin:20230820T164500
DTSTAMP:20260423T142053
CREATED:20230716T195518Z
LAST-MODIFIED:20230716T195518Z
UID:4135-1692543600-1692549900@www.fcemersacker.de
SUMMARY:SpVgg Auerbach-Streitheim - FC Emersacker (Herren)
DESCRIPTION:Rasenplatz
URL:https://www.fcemersacker.de/event/spvgg-auerbach-streitheim-fc-emersacker-herren/
LOCATION:Schwedenweg 200\n86497 Horgau
CATEGORIES:Fußball,Gesamtverein
END:VEVENT
END:VCALENDAR