BEGIN:VCALENDAR
VERSION:2.0
PRODID:-//FC Emersacker - ECPv6.15.20//NONSGML v1.0//EN
CALSCALE:GREGORIAN
METHOD:PUBLISH
X-WR-CALNAME:FC Emersacker
X-ORIGINAL-URL:https://www.fcemersacker.de
X-WR-CALDESC:Veranstaltungen für FC Emersacker
REFRESH-INTERVAL;VALUE=DURATION:PT1H
X-Robots-Tag:noindex
X-PUBLISHED-TTL:PT1H
BEGIN:VTIMEZONE
TZID:Europe/Berlin
BEGIN:DAYLIGHT
TZOFFSETFROM:+0100
TZOFFSETTO:+0200
TZNAME:CEST
DTSTART:20220327T010000
END:DAYLIGHT
BEGIN:STANDARD
TZOFFSETFROM:+0200
TZOFFSETTO:+0100
TZNAME:CET
DTSTART:20221030T010000
END:STANDARD
BEGIN:DAYLIGHT
TZOFFSETFROM:+0100
TZOFFSETTO:+0200
TZNAME:CEST
DTSTART:20230326T010000
END:DAYLIGHT
BEGIN:STANDARD
TZOFFSETFROM:+0200
TZOFFSETTO:+0100
TZNAME:CET
DTSTART:20231029T010000
END:STANDARD
BEGIN:DAYLIGHT
TZOFFSETFROM:+0100
TZOFFSETTO:+0200
TZNAME:CEST
DTSTART:20240331T010000
END:DAYLIGHT
BEGIN:STANDARD
TZOFFSETFROM:+0200
TZOFFSETTO:+0100
TZNAME:CET
DTSTART:20241027T010000
END:STANDARD
END:VTIMEZONE
BEGIN:VEVENT
DTSTART;TZID=Europe/Berlin:20230917T131500
DTEND;TZID=Europe/Berlin:20230917T150000
DTSTAMP:20260421T111112
CREATED:20230720T210221Z
LAST-MODIFIED:20230801T211809Z
UID:4205-1694956500-1694962800@www.fcemersacker.de
SUMMARY:FC Emersacker 2 - FC Donauried 2 (Herren-Reserve)
DESCRIPTION:
URL:https://www.fcemersacker.de/event/fc-emersacker-2-fc-donauried-2-herren-reserve/
CATEGORIES:Fußball,Gesamtverein
END:VEVENT
BEGIN:VEVENT
DTSTART;TZID=Europe/Berlin:20230917T150000
DTEND;TZID=Europe/Berlin:20230917T164500
DTSTAMP:20260421T111112
CREATED:20230716T195521Z
LAST-MODIFIED:20230801T211809Z
UID:4140-1694962800-1694969100@www.fcemersacker.de
SUMMARY:FC Emersacker - SV Gablingen (Herren)
DESCRIPTION:Rasenplatz
URL:https://www.fcemersacker.de/event/fc-emersacker-sv-gablingen-herren/
LOCATION:Sportplatzstr. 33\n86494 Emersacker
CATEGORIES:Fußball,Gesamtverein
END:VEVENT
END:VCALENDAR