BEGIN:VCALENDAR
VERSION:2.0
PRODID:-//FC Emersacker - ECPv6.15.20//NONSGML v1.0//EN
CALSCALE:GREGORIAN
METHOD:PUBLISH
X-WR-CALNAME:FC Emersacker
X-ORIGINAL-URL:https://www.fcemersacker.de
X-WR-CALDESC:Veranstaltungen für FC Emersacker
REFRESH-INTERVAL;VALUE=DURATION:PT1H
X-Robots-Tag:noindex
X-PUBLISHED-TTL:PT1H
BEGIN:VTIMEZONE
TZID:Europe/Berlin
BEGIN:DAYLIGHT
TZOFFSETFROM:+0100
TZOFFSETTO:+0200
TZNAME:CEST
DTSTART:20250330T010000
END:DAYLIGHT
BEGIN:STANDARD
TZOFFSETFROM:+0200
TZOFFSETTO:+0100
TZNAME:CET
DTSTART:20251026T010000
END:STANDARD
BEGIN:DAYLIGHT
TZOFFSETFROM:+0100
TZOFFSETTO:+0200
TZNAME:CEST
DTSTART:20260329T010000
END:DAYLIGHT
BEGIN:STANDARD
TZOFFSETFROM:+0200
TZOFFSETTO:+0100
TZNAME:CET
DTSTART:20261025T010000
END:STANDARD
BEGIN:DAYLIGHT
TZOFFSETFROM:+0100
TZOFFSETTO:+0200
TZNAME:CEST
DTSTART:20270328T010000
END:DAYLIGHT
BEGIN:STANDARD
TZOFFSETFROM:+0200
TZOFFSETTO:+0100
TZNAME:CET
DTSTART:20271031T010000
END:STANDARD
END:VTIMEZONE
BEGIN:VEVENT
DTSTART;TZID=Europe/Berlin:20260425T143000
DTEND;TZID=Europe/Berlin:20260425T173000
DTSTAMP:20260420T165215
CREATED:20260317T201528Z
LAST-MODIFIED:20260317T201553Z
UID:25459-1777127400-1777138200@www.fcemersacker.de
SUMMARY:Tag der offenen Tür - Abteilung Turnen
DESCRIPTION:*Das erwartet Euch:* \n⭐ Mitmach-Aktionen\n⭐ Vorführungen unserer Tanzgruppen\n⭐ Kennenlernen unserer Trainer*innen\n⭐ Infos zum Training und zur Mitgliedschaft\n⭐ Kaffee und Kuchen \nProgramm:\n14:30 Smily Dance\n15:00 Eltern-Kindturnen und Kinderturnen\n16:00 Rücken-Fit\n16:30 Rückenschule\n17:00 Orientalische Tanzkunst Kalila\n17:30 Burlesque-Tanz \nNeue Trainer*innen sind jederzeit gerne willkommen\, meldet Euch einfach!
URL:https://www.fcemersacker.de/event/tag-der-offenen-tuer-abteilung-turnen/
LOCATION:Sportheim Emersacker\, Sportplatzstraße 33\, 86494 Emersacker\, Deutschland
CATEGORIES:Termine,Turnen
ORGANIZER;CN="FC Emersacker":MAILTO:info@fcemersacker.de
END:VEVENT
END:VCALENDAR