BEGIN:VCALENDAR
VERSION:2.0
PRODID:-//FC Emersacker - ECPv6.15.20//NONSGML v1.0//EN
CALSCALE:GREGORIAN
METHOD:PUBLISH
X-WR-CALNAME:FC Emersacker
X-ORIGINAL-URL:https://www.fcemersacker.de
X-WR-CALDESC:Veranstaltungen für FC Emersacker
REFRESH-INTERVAL;VALUE=DURATION:PT1H
X-Robots-Tag:noindex
X-PUBLISHED-TTL:PT1H
BEGIN:VTIMEZONE
TZID:Europe/Berlin
BEGIN:DAYLIGHT
TZOFFSETFROM:+0100
TZOFFSETTO:+0200
TZNAME:CEST
DTSTART:20250330T010000
END:DAYLIGHT
BEGIN:STANDARD
TZOFFSETFROM:+0200
TZOFFSETTO:+0100
TZNAME:CET
DTSTART:20251026T010000
END:STANDARD
BEGIN:DAYLIGHT
TZOFFSETFROM:+0100
TZOFFSETTO:+0200
TZNAME:CEST
DTSTART:20260329T010000
END:DAYLIGHT
BEGIN:STANDARD
TZOFFSETFROM:+0200
TZOFFSETTO:+0100
TZNAME:CET
DTSTART:20261025T010000
END:STANDARD
BEGIN:DAYLIGHT
TZOFFSETFROM:+0100
TZOFFSETTO:+0200
TZNAME:CEST
DTSTART:20270328T010000
END:DAYLIGHT
BEGIN:STANDARD
TZOFFSETFROM:+0200
TZOFFSETTO:+0100
TZNAME:CET
DTSTART:20271031T010000
END:STANDARD
END:VTIMEZONE
BEGIN:VEVENT
DTSTART;TZID=Europe/Berlin:20260425T143000
DTEND;TZID=Europe/Berlin:20260425T173000
DTSTAMP:20260421T140300
CREATED:20260317T201528Z
LAST-MODIFIED:20260317T201553Z
UID:25459-1777127400-1777138200@www.fcemersacker.de
SUMMARY:Tag der offenen Tür - Abteilung Turnen
DESCRIPTION:*Das erwartet Euch:* \n⭐ Mitmach-Aktionen\n⭐ Vorführungen unserer Tanzgruppen\n⭐ Kennenlernen unserer Trainer*innen\n⭐ Infos zum Training und zur Mitgliedschaft\n⭐ Kaffee und Kuchen \nProgramm:\n14:30 Smily Dance\n15:00 Eltern-Kindturnen und Kinderturnen\n16:00 Rücken-Fit\n16:30 Rückenschule\n17:00 Orientalische Tanzkunst Kalila\n17:30 Burlesque-Tanz \nNeue Trainer*innen sind jederzeit gerne willkommen\, meldet Euch einfach!
URL:https://www.fcemersacker.de/event/tag-der-offenen-tuer-abteilung-turnen/
LOCATION:Sportheim Emersacker\, Sportplatzstraße 33\, 86494 Emersacker\, Deutschland
CATEGORIES:Termine,Turnen
ORGANIZER;CN="FC Emersacker":MAILTO:info@fcemersacker.de
END:VEVENT
BEGIN:VEVENT
DTSTART;TZID=Europe/Berlin:20260503T090000
DTEND;TZID=Europe/Berlin:20260503T150000
DTSTAMP:20260421T140300
CREATED:20260403T202958Z
LAST-MODIFIED:20260403T202958Z
UID:25498-1777798800-1777820400@www.fcemersacker.de
SUMMARY:Punktspiel Tennis (Herren): FCE - TSV Dinkelscherben II
DESCRIPTION:Punktspiel Herren Südliga 6 Gr. 113
URL:https://www.fcemersacker.de/event/punktspiel-tennis-herren-fce-tsv-dinkelscherben-ii/
LOCATION:FC Emersacker\, Sportplatzstraße 33\, 86494 Emersacker\, Deutschland
CATEGORIES:Tennis
ATTACH;FMTTYPE=image/jpeg:https://www.fcemersacker.de/wp-content/uploads/2021/06/tennis_01-scaled-e1623178353312.jpg
ORGANIZER;CN="FC Emersacker":MAILTO:info@fcemersacker.de
END:VEVENT
BEGIN:VEVENT
DTSTART;TZID=Europe/Berlin:20260510T130000
DTEND;TZID=Europe/Berlin:20260510T144500
DTSTAMP:20260421T140300
CREATED:20260403T175957Z
LAST-MODIFIED:20260403T175957Z
UID:25492-1778418000-1778424300@www.fcemersacker.de
SUMMARY:SG FC Emersacker/TSV Welden II - SV Wörleschwang
DESCRIPTION:23. Spieltag \nA-Klasse Augsburg Nord-West \n 
URL:https://www.fcemersacker.de/event/sg-fc-emersacker-tsv-welden-ii-svw/
LOCATION:FC Emersacker\, Sportplatzstraße 33\, 86494 Emersacker\, Deutschland
CATEGORIES:Fußball
ORGANIZER;CN="FC Emersacker":MAILTO:info@fcemersacker.de
END:VEVENT
BEGIN:VEVENT
DTSTART;TZID=Europe/Berlin:20260510T150000
DTEND;TZID=Europe/Berlin:20260510T164500
DTSTAMP:20260421T140300
CREATED:20260403T180853Z
LAST-MODIFIED:20260403T180853Z
UID:25496-1778425200-1778431500@www.fcemersacker.de
SUMMARY:TSV Welden - TSV Diedorf
DESCRIPTION:Kreisliga Augsburg \n27. Spieltag
URL:https://www.fcemersacker.de/event/tsv-welden-tsv-diedorf/
LOCATION:FC Emersacker\, Sportplatzstraße 33\, 86494 Emersacker\, Deutschland
CATEGORIES:Fußball
END:VEVENT
BEGIN:VEVENT
DTSTART;TZID=Europe/Berlin:20260620T140000
DTEND;TZID=Europe/Berlin:20260620T210000
DTSTAMP:20260421T140300
CREATED:20260317T205009Z
LAST-MODIFIED:20260317T205009Z
UID:25462-1781964000-1781989200@www.fcemersacker.de
SUMMARY:Turnier der Ortsvereine (Tennis)
DESCRIPTION:das erwaret Euch:  \n\npackende Doppelspiele auf den Tennisplätzen\nKaffee & Kuchen\nLeckereien vom Grill\nSpritzbar\nAuftritt der Smily Dance Gruppe des FCE\n\nKommt vorbei und habt mit uns einen schönen Nachmittag bzw. Abend! \nAuf Euer Kommen freut sich die Tennisabteilung des FCE!
URL:https://www.fcemersacker.de/event/turnier-der-ortsvereine-tennis/
LOCATION:Tennisanlage FC Emersacker\, Sportplatzstraße 33\, 86494 Emersacker\, Deutschland
CATEGORIES:Tennis,Termine
ORGANIZER;CN="FC Emersacker":MAILTO:info@fcemersacker.de
END:VEVENT
END:VCALENDAR