BEGIN:VCALENDAR
VERSION:2.0
PRODID:-//FC Emersacker - ECPv6.15.20//NONSGML v1.0//EN
CALSCALE:GREGORIAN
METHOD:PUBLISH
X-WR-CALNAME:FC Emersacker
X-ORIGINAL-URL:https://www.fcemersacker.de
X-WR-CALDESC:Veranstaltungen für FC Emersacker
REFRESH-INTERVAL;VALUE=DURATION:PT1H
X-Robots-Tag:noindex
X-PUBLISHED-TTL:PT1H
BEGIN:VTIMEZONE
TZID:Europe/Berlin
BEGIN:DAYLIGHT
TZOFFSETFROM:+0100
TZOFFSETTO:+0200
TZNAME:CEST
DTSTART:20240331T010000
END:DAYLIGHT
BEGIN:STANDARD
TZOFFSETFROM:+0200
TZOFFSETTO:+0100
TZNAME:CET
DTSTART:20241027T010000
END:STANDARD
BEGIN:DAYLIGHT
TZOFFSETFROM:+0100
TZOFFSETTO:+0200
TZNAME:CEST
DTSTART:20250330T010000
END:DAYLIGHT
BEGIN:STANDARD
TZOFFSETFROM:+0200
TZOFFSETTO:+0100
TZNAME:CET
DTSTART:20251026T010000
END:STANDARD
BEGIN:DAYLIGHT
TZOFFSETFROM:+0100
TZOFFSETTO:+0200
TZNAME:CEST
DTSTART:20260329T010000
END:DAYLIGHT
BEGIN:STANDARD
TZOFFSETFROM:+0200
TZOFFSETTO:+0100
TZNAME:CET
DTSTART:20261025T010000
END:STANDARD
END:VTIMEZONE
BEGIN:VEVENT
DTSTART;TZID=Europe/Berlin:20251017T193000
DTEND;TZID=Europe/Berlin:20251017T223000
DTSTAMP:20260422T023217
CREATED:20250707T190319Z
LAST-MODIFIED:20250922T185122Z
UID:25110-1760729400-1760740200@www.fcemersacker.de
SUMMARY:Konzert CASH-N-GO
DESCRIPTION:Wir freuen uns sehr darauf\, ein weiteres Konzerthighlight bei uns im schönen Sportheimsaal des FCE präsentieren zu können:  \nCASH-N-GO \nBeginn: 19:30 Uhr \nSaalöffnung und Einlass: 18:30 Uhr \n  \nCASH-N-GO – ein Phänomen: Bei kaum einem anderen A-cappella-Ensemble werden Zuhörer so\nleicht zu treuen Anhängern\, die oft jede Gelegenheit wahrnehmen\, immer wieder in den Genuss\ndieser außergewöhnlichen Gesangstruppe zu kommen. Wie erklärt sich diese Faszination auf\nganze Familien vom Enkel bis zu den Großeltern\, auf ganze Betriebe vom Azubi bis in die\nChefetage?\nNun\, es ist die Balance zwischen Anspruch und erstklassiger Unterhaltung\, sie gelingt den sechs\nMusikern so selbstverständlich wie das Atemholen. Mal ernsthaft\, mal (selbst)ironisch\, immer\nleidenschaftlich und gesanglich brillant meistern die bei allem schauspielerischen Talent völlig\nunaffektierten Sänger die Herausforderung spielend\, ihr Publikum ebenso zu berühren wie zu\namüsieren. Diese gesunde Mischung aus intelligentem Humor und wahrem Können verleiht jeder\nihrer Darbietungen eine kunstvolle Leichtigkeit. Langeweile ist hier garantiert fehl am Platz.\nSpontane Begeisterungsstürme\, tosender Beifall und ein beschwingter Nachhauseweg sind so\nvorprogrammiert. \nTickets gibt es im Vorverkauf bei Blumen Pelikan in Emersacker oder direkt in unserem Ticketshop:  \n 
URL:https://www.fcemersacker.de/event/konzert-cash-n-go/
LOCATION:Sportheim Emersacker\, Sportplatzstraße 33\, 86494 Emersacker\, Deutschland
CATEGORIES:Gesamtverein,Termine
ATTACH;FMTTYPE=image/png:https://www.fcemersacker.de/wp-content/uploads/2025/07/Plakat_Cash-N-Go.png
ORGANIZER;CN="FC Emersacker":MAILTO:info@fcemersacker.de
END:VEVENT
BEGIN:VEVENT
DTSTART;TZID=Europe/Berlin:20251031T173000
DTEND;TZID=Europe/Berlin:20251031T220000
DTSTAMP:20260422T023217
CREATED:20251012T094326Z
LAST-MODIFIED:20251012T094358Z
UID:25269-1761931800-1761948000@www.fcemersacker.de
SUMMARY:Halloween-Party für Kids
DESCRIPTION:Liebe kleine Geister\, Hexen und Monster\, \nam 31.10.2025 laden wir euch herzlich zu unserer Halloweenparty im Sportheim Emersacker ein!\nLos geht’s um 17:30 Uhr – kommt verkleidet\, hungrig und bereit für jede Menge Spaß! 👻 \nEs erwarten euch:\n🕷️ Gruselige Spiele\n🍬 Süße Leckereien\n🧛‍♀️ Musik für kleine Vampire\n🎨 Und vieles mehr! \nOrt: Sportheim Emersacker\nEnde: gegen 20:00 Uhr \nWir freuen uns auf eine tolle Zeit mit euch!👻🎃
URL:https://www.fcemersacker.de/event/halloween-party-fuer-kids/
LOCATION:Sportheim Emersacker\, Sportplatzstraße 33\, 86494 Emersacker\, Deutschland
CATEGORIES:Gesamtverein,Termine
ATTACH;FMTTYPE=image/jpeg:https://www.fcemersacker.de/wp-content/uploads/2025/10/WhatsApp-Image-2025-10-12-at-11.26.14.jpeg
ORGANIZER;CN="FC Emersacker":MAILTO:info@fcemersacker.de
END:VEVENT
BEGIN:VEVENT
DTSTART;TZID=Europe/Berlin:20251031T213000
DTEND;TZID=Europe/Berlin:20251101T030000
DTSTAMP:20260422T023217
CREATED:20251007T200336Z
LAST-MODIFIED:20251012T094709Z
UID:25252-1761946200-1761966000@www.fcemersacker.de
SUMMARY:Halloween-Party
DESCRIPTION:Seid dabei\, wenn das Sportheim zur gruseligsten Location des Jahres wird! Kommt vorbei und feiert mit uns eine schaurig-schöne Nacht voller Musik\, Spaß und guter Stimmung.👻 \n📅 Datum: Freitag\, 31.10.2025\n🕤 Beginn: 21:30 Uhr\n📍 Ort: Sportheim Emersacker \n🧙‍♀️ Special:\nAlle\, die in der ersten Stunde eintreffen\, erhalten einen gratis Zaubershot – lasst euch den magischen Start in die Nacht nicht entgehen! \n🚗 Parken:\nIhr könnt ganz normal am Sportheim auf den Parkplätzen parken. Bitte achtet nur darauf\, keine Einfahrten oder Rettungswege zu blockieren – danke euch! 🙌 \nAuf eine unvergessliches GhostKikiParty! 👻🎶💀 \nWir freuen uns auf euch!\nEuer Party-Team 🧡
URL:https://www.fcemersacker.de/event/halloween-party/
LOCATION:Sportheim Emersacker\, Sportplatzstraße 33\, 86494 Emersacker\, Deutschland
CATEGORIES:Gesamtverein,Termine
ATTACH;FMTTYPE=image/jpeg:https://www.fcemersacker.de/wp-content/uploads/2025/10/WhatsApp-Image-2025-10-12-at-11.26.03.jpeg
ORGANIZER;CN="FC Emersacker":MAILTO:info@fcemersacker.de
END:VEVENT
END:VCALENDAR