BEGIN:VCALENDAR
VERSION:2.0
PRODID:-//FC Emersacker - ECPv6.15.20//NONSGML v1.0//EN
CALSCALE:GREGORIAN
METHOD:PUBLISH
X-ORIGINAL-URL:https://www.fcemersacker.de
X-WR-CALDESC:Veranstaltungen für FC Emersacker
REFRESH-INTERVAL;VALUE=DURATION:PT1H
X-Robots-Tag:noindex
X-PUBLISHED-TTL:PT1H
BEGIN:VTIMEZONE
TZID:Europe/Berlin
BEGIN:DAYLIGHT
TZOFFSETFROM:+0100
TZOFFSETTO:+0200
TZNAME:CEST
DTSTART:20250330T010000
END:DAYLIGHT
BEGIN:STANDARD
TZOFFSETFROM:+0200
TZOFFSETTO:+0100
TZNAME:CET
DTSTART:20251026T010000
END:STANDARD
BEGIN:DAYLIGHT
TZOFFSETFROM:+0100
TZOFFSETTO:+0200
TZNAME:CEST
DTSTART:20260329T010000
END:DAYLIGHT
BEGIN:STANDARD
TZOFFSETFROM:+0200
TZOFFSETTO:+0100
TZNAME:CET
DTSTART:20261025T010000
END:STANDARD
BEGIN:DAYLIGHT
TZOFFSETFROM:+0100
TZOFFSETTO:+0200
TZNAME:CEST
DTSTART:20270328T010000
END:DAYLIGHT
BEGIN:STANDARD
TZOFFSETFROM:+0200
TZOFFSETTO:+0100
TZNAME:CET
DTSTART:20271031T010000
END:STANDARD
END:VTIMEZONE
BEGIN:VEVENT
DTSTART;TZID=Europe/Berlin:20260218T170000
DTEND;TZID=Europe/Berlin:20260218T203000
DTSTAMP:20260421T192017
CREATED:20260110T162320Z
LAST-MODIFIED:20260216T065247Z
UID:25385-1771434000-1771446600@www.fcemersacker.de
SUMMARY:Steckerlfisch am Aschermittwoch
DESCRIPTION:Der FC Emersacker lädt wieder zu frischem Steckerlfisch vom Grill am Aschermittwoch ein. \nWann: Mittwoch\, 18. Februar 2026 ab 17:00 Uhr \nWo: Sportheim des FC Emersacker \nWir bitten um Reservierung bzw. Vorbestellung der Steckerlfische telefonisch unter 08293/1373 bei Familie Eberle oder direkt hier über unser Bestellformular unten bis spätestens Sonntag\, 15. Februar 2026  ***keine Bestellungen mehr möglich\, wir sind bereits restlos ausverkauft*** \nZudem bieten wir Euch im Sportheim auch wieder Kässpatzen an. Natürlich können die Fische auch zum Mitnehmen vorbestellt werden. \nGuten Appetit wünscht die Vorstandschaft des FC Emersacker!!! \n  \n 
URL:https://www.fcemersacker.de/event/steckerlfisch-am-aschermittwoch-2/
LOCATION:Sportheim FC Emersacker\, Sportplatzstr. 33\, Emersacker\, 86494\, Deutschland
CATEGORIES:Gesamtverein
ORGANIZER;CN="FC Emersacker":MAILTO:info@fcemersacker.de
END:VEVENT
END:VCALENDAR